Workbook

Sheet １月
A1: 鳥取県営境港水産物地方卸売市場水産物取扱高報告書(令和８年 １月分）
I2: 境港水産物市場管理株式会社
A3: １ 日別取扱状況 | E3: ２ 業態別取扱状況
A4: 日 | B4: 数量（kg) | C4: 金額(円 ） | H4: １月 | I4: 累計
A5: 1 | B5: 0 | C5: 0 | G5: 数量(kg) | H5: 金額(円 ） | I5: 数量(kg) | J5: 金額(円 ）
A6: 2 | B6: 0 | C6: 0 | E6: まき網 | G6: 7764604 | H6: 1990693738 | I6: =G6 -> 7764604 | J6: =H6 -> 1990693738
A7: 3 | B7: 0 | C7: 0 | F7: 前年 | G7: 10035750 | H7: 1434739492 | I7: =G7 -> 10035750 | J7: =H7 -> 1434739492
A8: 4 | B8: 0 | C8: 0 | E8: いかつり | I8: =G8 -> 0 | J8: =H8 -> 0
A9: 5 | B9: 8423 | C9: 10009839 | F9: 前年 | G9: 3087 | H9: 2919726 | I9: =G9 -> 3087 | J9: =H9 -> 2919726
A10: 6 | B10: 7092 | C10: 6108668 | E10: ベニズワイガニ | G10: 399416 | H10: 296461415 | I10: =G10 -> 399416 | J10: =H10 -> 296461415
A11: 7 | B11: 271161 | C11: 159442514 | F11: 前年 | G11: 462766 | H11: 307329260 | I11: =G11 -> 462766 | J11: =H11 -> 307329260
A12: 8 | B12: 496917 | C12: 209488169 | E12: 活魚 | G12: 2447 | H12: 6904889 | I12: =G12 -> 2447 | J12: =H12 -> 6904889
A13: 9 | B13: 99525 | C13: 54856610 | F13: 前年 | G13: 4317 | H13: 7079703 | I13: =G13 -> 4317 | J13: =H13 -> 7079703
A14: 10 | B14: 483913 | C14: 169639690 | E14: 輸入（ベニズワイガニ） | I14: =G14 -> 0 | J14: =H14 -> 0
A15: 11 | B15: 0 | C15: 0 | F15: 前年 | I15: =G15 -> 0 | J15: =H15 -> 0
A16: 12 | B16: 106122 | C16: 59215973 | E16: 輸入魚（その他） | I16: =G16 -> 0 | J16: =H16 -> 0
A17: 13 | B17: 16983 | C17: 9497378 | F17: 前年 | I17: =G17 -> 0 | J17: =H17 -> 0
A18: 14 | B18: 7286 | C18: 4541916 | E18: 沖合底びき網 | G18: 302871 | H18: 365519580 | I18: =G18 -> 302871 | J18: =H18 -> 365519580
A19: 15 | B19: 77428 | C19: 41235589 | F19: 前年 | G19: 263627 | H19: 302374743 | I19: =G19 -> 263627 | J19: =H19 -> 302374743
A20: 16 | B20: 614150 | C20: 224733676 | E20: 移入魚 | G20: 3368 | H20: 2299119 | I20: =G20 -> 3368 | J20: =H20 -> 2299119
A21: 17 | B21: 594261 | C21: 182181042 | F21: 前年 | G21: 5684 | H21: 3857652 | I21: =G21 -> 5684 | J21: =H21 -> 3857652
A22: 18 | B22: 0 | C22: 0 | E22: その他 | G22: 173765 | H22: 144995065 | I22: =G22 -> 173765 | J22: =H22 -> 144995065
A23: 19 | B23: 1085046 | C23: 270318275 | F23: 前年 | G23: 253582 | H23: 231108778 | I23: =G23 -> 253582 | J23: =H23 -> 231108778
A24: 20 | B24: 1433062 | C24: 297165421 | E24: 計 | G24: =G6+G8+G10+G12+G14+G16+G18+G20+G22 -> 8646471 | H24: =H6+H8+H10+H12+H14+H16+H18+H20+H22 -> 2806873806 | I24: =I6+I8+I10+I12+I14+I16+I18+I20+I22 -> 8646471 | J24: =J6+J8+J10+J12+J14+J16+J18+J20+J22 -> 2806873806
A25: 21 | B25: 421841 | C25: 147021007 | F25: 前年計 | G25: =G7+G9+G11+G13+G15+G17+G19+G21+G23 -> 11028813 | H25: =H7+H9+H11+H13+H15+H17+H19+H21+H23 -> 2289409354 | I25: =I7+I9+I11+I13+I15+I17+I19+I21+I23 -> 11028813 | J25: =J7+J9+J11+J13+J15+J17+J19+J21+J23 -> 2289409354
A26: 22 | B26: 81815 | C26: 58267097 | E26: 対前年比 | G26: =G24/G25 -> 0.78398927 | H26: =H24/H25 -> 1.2260253 | I26: =I24/I25 -> 0.78398927 | J26: =J24/J25 -> 1.2260253
A27: 23 | B27: 18978 | C27: 11696417
A28: 24 | B28: 2256 | C28: 2472492
A29: 25 | B29: 0 | C29: 0
A30: 26 | B30: 186951 | C30: 73268081
A31: 27 | B31: 755227 | C31: 152218544
A32: 28 | B32: 801906 | C32: 273240026
A33: 29 | B33: 423832 | C33: 155629415
A34: 30 | B34: 319238 | C34: 139567981
A35: 31 | B35: 333058 | C35: 95057986
A36: 計 | B36: =SUM(B5:B35) -> 8646471 | C36: =SUM(C5:C35) -> 2806873806
A37: 前年計 | B37: 11028813 | C37: 2289409354
A38: 対前年比 | B38: =B36/B37 -> 0.78398927 | C38: =C36/C37 -> 1.2260253
A39: 累 計 | B39: =B36 -> 8646471 | C39: =C36 -> 2806873806
A40: 前年累計 | B40: =B37 -> 11028813 | C40: =C37 -> 2289409354
A41: 対前年累計比 | B41: =B39/B40 -> 0.78398927 | C41: =C39/C40 -> 1.2260253

Sheet ２月
A1: 鳥取県営境港水産物地方卸売市場水産物取扱高報告書(令和 ８年 ２月分）
I2: 境港水産物市場管理株式会社
A3: １ 日別取扱状況 | E3: ２ 業態別取扱状況
A4: 日 | B4: 数量（kg) | C4: 金額(円 ） | H4: ２月 | I4: 累計（１～２月）
A5: 1 | B5: 0 | C5: 0 | G5: 数量(kg) | H5: 金額(円 ） | I5: 数量(kg) | J5: 金額(円 ）
A6: 2 | B6: 178207 | C6: 82159072 | E6: まき網 | G6: 18119788 | H6: 2807728700 | I6: ='１月'!I6+'２月'!G6 -> 25884392 | J6: ='１月'!J6+'２月'!H6 -> 4798422438
A7: 3 | B7: 1366150 | C7: 300442941 | F7: 前年 | G7: 11418442 | H7: 1078819402 | I7: ='１月'!I7+'２月'!G7 -> 21454192 | J7: ='１月'!J7+'２月'!H7 -> 2513558894
A8: 4 | B8: 644702 | C8: 167359931 | E8: いかつり | G8: 3881 | H8: 5295920 | I8: ='１月'!I8+'２月'!G8 -> 3881 | J8: ='１月'!J8+'２月'!H8 -> 5295920
A9: 5 | B9: 660016 | C9: 184126649 | F9: 前年 | G9: 826 | H9: 1074092 | I9: ='１月'!I9+'２月'!G9 -> 3913 | J9: ='１月'!J9+'２月'!H9 -> 3993818
A10: 6 | B10: 687793 | C10: 177027642 | E10: ベニズワイガニ | G10: 545747 | H10: 325978550 | I10: ='１月'!I10+'２月'!G10 -> 945163 | J10: ='１月'!J10+'２月'!H10 -> 622439965
A11: 7 | B11: 964199 | C11: 207258840 | F11: 前年 | G11: 448736 | H11: 317186756 | I11: ='１月'!I11+'２月'!G11 -> 911502 | J11: ='１月'!J11+'２月'!H11 -> 624516016
A12: 8 | B12: 0 | C12: 0 | E12: 活魚 | G12: 4629 | H12: 7764505 | I12: ='１月'!I12+'２月'!G12 -> 7076 | J12: ='１月'!J12+'２月'!H12 -> 14669394
A13: 9 | B13: 95711 | C13: 26334947 | F13: 前年 | G13: 4224 | H13: 6902639 | I13: ='１月'!I13+'２月'!G13 -> 8541 | J13: ='１月'!J13+'２月'!H13 -> 13982342
A14: 10 | B14: 318466 | C14: 50565454 | E14: 輸入（ベニズワイガニ） | I14: ='１月'!I14+'２月'!G14 -> 0 | J14: ='１月'!J14+'２月'!H14 -> 0
A15: 11 | B15: 695937 | C15: 176494508 | F15: 前年 | I15: ='１月'!I15+'２月'!G15 -> 0 | J15: ='１月'!J15+'２月'!H15 -> 0
A16: 12 | B16: 850495 | C16: 191929250 | E16: 輸入（その他） | I16: ='１月'!I16+'２月'!G16 -> 0 | J16: ='１月'!J16+'２月'!H16 -> 0
A17: 13 | B17: 1854055 | C17: 277019435 | F17: 前年 | I17: ='１月'!I17+'２月'!G17 -> 0 | J17: ='１月'!J17+'２月'!H17 -> 0
A18: 14 | B18: 718214 | C18: 122659776 | E18: 沖合底びき網 | G18: 317442 | H18: 302169949 | I18: ='１月'!I18+'２月'!G18 -> 620313 | J18: ='１月'!J18+'２月'!H18 -> 667689529
A19: 15 | B19: 0 | C19: 0 | F19: 前年 | G19: 447892 | H19: 433887820 | I19: ='１月'!I19+'２月'!G19 -> 711519 | J19: ='１月'!J19+'２月'!H19 -> 736262563
A20: 16 | B20: 538691 | C20: 106237754 | E20: 移入魚 | G20: 3372 | H20: 2905400 | I20: ='１月'!I20+'２月'!G20 -> 6740 | J20: ='１月'!J20+'２月'!H20 -> 5204519
A21: 17 | B21: 1156967 | C21: 189848558 | F21: 前年 | G21: 3796 | H21: 2788585 | I21: ='１月'!I21+'２月'!G21 -> 9480 | J21: ='１月'!J21+'２月'!H21 -> 6646237
A22: 18 | B22: 1080288 | C22: 177209633 | E22: その他 | G22: 317211 | H22: 200021866 | I22: ='１月'!I22+'２月'!G22 -> 490976 | J22: ='１月'!J22+'２月'!H22 -> 345016931
A23: 19 | B23: 678572 | C23: 166149800 | F23: 前年 | G23: 284298 | H23: 308485246 | I23: ='１月'!I23+'２月'!G23 -> 537880 | J23: ='１月'!J23+'２月'!H23 -> 539594024
A24: 20 | B24: 335596 | C24: 63412517 | E24: 計 | G24: =G6+G8+G10+G12+G14+G16+G18+G20+G22 -> 19312070 | H24: =H6+H8+H10+H12+H14+H16+H18+H20+H22 -> 3651864890 | I24: =I6+I8+I10+I12+I14+I16+I18+I20+I22 -> 27958541 | J24: =J6+J8+J10+J12+J14+J16+J18+J20+J22 -> 6458738696
A25: 21 | B25: 1711309 | C25: 225317413 | F25: 前年計 | G25: =G7+G9+G11+G13+G15+G17+G19+G21+G23 -> 12608214 | H25: =H7+H9+H11+H13+H15+H17+H19+H21+H23 -> 2149144540 | I25: =I7+I9+I11+I13+I15+I17+I19+I21+I23 -> 23637027 | J25: =J7+J9+J11+J13+J15+J17+J19+J21+J23 -> 4438553894
A26: 22 | B26: 0 | C26: 0 | E26: 対前年比 | G26: =G24/G25 -> 1.5317054 | H26: =H24/H25 -> 1.6992179 | I26: =I24/I25 -> 1.1828282 | J26: =J24/J25 -> 1.4551448
A27: 23 | B27: 612129 | C27: 130157460
A28: 24 | B28: 337437 | C28: 52440983
A29: 25 | B29: 1542203 | C29: 235970527
A30: 26 | B30: 177760 | C30: 61709416
A31: 27 | B31: 576246 | C31: 99472456
A32: 28 | B32: 1530927 | C32: 180559928
B33: 0 | C33: 0
B34: 0 | C34: 0
B35: 0 | C35: 0
A36: 計 | B36: =SUM(B5:B35) -> 19312070 | C36: =SUM(C5:C35) -> 3651864890
A37: 前年計 | B37: 12608214 | C37: 2149144540
A38: 対前年比 | B38: =B36/B37 -> 1.5317054 | C38: =C36/C37 -> 1.6992179
A39: 累計 （1～２月） | B39: ='１月'!B36+'２月'!B36 -> 27958541 | C39: ='１月'!C36+'２月'!C36 -> 6458738696
A40: 前年累計 | B40: ='１月'!B40+'２月'!B37 -> 23637027 | C40: ='１月'!C40+'２月'!C37 -> 4438553894
A41: 対前年累計比 | B41: =B39/B40 -> 1.1828282 | C41: =C39/C40 -> 1.4551448

Sheet ３月
A1: 鳥取県営境港水産物地方卸売市場水産物取扱高報告書(令和 ８年 ３月分）
I2: 境港水産物市場管理株式会社
A3: １ 日別取扱状況 | E3: ２ 業態別取扱状況
A4: 日 | B4: 数量（kg) | C4: 金額(円 ） | H4: ３月 | I4: 累計（１～３月）
A5: 1 | B5: 0 | C5: 0 | G5: 数量(kg) | H5: 金額(円 ） | I5: 数量(kg) | J5: 金額(円 ）
A6: 2 | B6: 855240 | C6: 119864599 | E6: まき網 | G6: 20715121 | H6: 2056391413 | I6: ='２月'!I6+'３月'!G6 -> 46599513 | J6: ='２月'!J6+'３月'!H6 -> 6854813851
A7: 3 | B7: 44214 | C7: 32945529 | F7: 前年 | G7: 17750145 | H7: 895931225 | I7: ='２月'!I7+'３月'!G7 -> 39204337 | J7: ='２月'!J7+'３月'!H7 -> 3409490119
A8: 4 | B8: 76313 | C8: 35518687 | E8: いかつり | G8: 215 | H8: 314496 | I8: ='２月'!I8+'３月'!G8 -> 4096 | J8: ='２月'!J8+'３月'!H8 -> 5610416
A9: 5 | B9: 237305 | C9: 50985849 | F9: 前年 | G9: 16079 | H9: 19990315 | I9: ='２月'!I9+'３月'!G9 -> 19992 | J9: ='２月'!J9+'３月'!H9 -> 23984133
A10: 6 | B10: 144904 | C10: 57088226 | E10: ベニズワイガニ | G10: 630097 | H10: 278347990 | I10: ='２月'!I10+'３月'!G10 -> 1575260 | J10: ='２月'!J10+'３月'!H10 -> 900787955
A11: 7 | B11: 715892 | C11: 141648507 | F11: 前年 | G11: 648310 | H11: 286419110 | I11: ='２月'!I11+'３月'!G11 -> 1559812 | J11: ='２月'!J11+'３月'!H11 -> 910935126
A12: 8 | B12: 0 | C12: 0 | E12: 活魚 | G12: 4587 | H12: 9482540 | I12: ='２月'!I12+'３月'!G12 -> 11663 | J12: ='２月'!J12+'３月'!H12 -> 24151934
A13: 9 | B13: 269389 | C13: 64920410 | F13: 前年 | G13: 5254 | H13: 9867244 | I13: ='２月'!I13+'３月'!G13 -> 13795 | J13: ='２月'!J13+'３月'!H13 -> 23849586
A14: 10 | B14: 1013801 | C14: 146951992 | E14: 輸入（ベニズワイガニ） | I14: ='２月'!I14+'３月'!G14 -> 0 | J14: ='２月'!J14+'３月'!H14 -> 0
A15: 11 | B15: 428966 | C15: 80778203 | F15: 前年 | G15: 0 | H15: 0 | I15: ='２月'!I15+'３月'!G15 -> 0 | J15: ='２月'!J15+'３月'!H15 -> 0
A16: 12 | B16: 2511940 | C16: 254969768 | E16: 輸入魚（その他） | I16: ='２月'!I16+'３月'!G16 -> 0 | J16: ='２月'!J16+'３月'!H16 -> 0
A17: 13 | B17: 729121 | C17: 120681550 | F17: 前年 | G17: 0 | H17: 0 | I17: ='２月'!I17+'３月'!G17 -> 0 | J17: ='２月'!J17+'３月'!H17 -> 0
A18: 14 | B18: 9214 | C18: 8428059 | E18: 沖合底びき網 | G18: 344082 | H18: 303356896 | I18: ='２月'!I18+'３月'!G18 -> 964395 | J18: ='２月'!J18+'３月'!H18 -> 971046425
A19: 15 | B19: 0 | C19: 0 | F19: 前年 | G19: 359975 | H19: 302503528 | I19: ='２月'!I19+'３月'!G19 -> 1071494 | J19: ='２月'!J19+'３月'!H19 -> 1038766091
A20: 16 | B20: 386958 | C20: 72382583 | E20: 移入魚 | G20: 7634 | H20: 4666115 | I20: ='２月'!I20+'３月'!G20 -> 14374 | J20: ='２月'!J20+'３月'!H20 -> 9870634
A21: 17 | B21: 1195057 | C21: 119385720 | F21: 前年 | G21: 6470 | H21: 4162572 | I21: ='２月'!I21+'３月'!G21 -> 15950 | J21: ='２月'!J21+'３月'!H21 -> 10808809
A22: 18 | B22: 1656820 | C22: 225528655 | E22: その他 | G22: 794949 | H22: 304096367 | I22: ='２月'!I22+'３月'!G22 -> 1285925 | J22: ='２月'!J22+'３月'!H22 -> 649113298
A23: 19 | B23: 1090798 | C23: 144124434 | F23: 前年 | G23: 538975 | H23: 262341355 | I23: ='２月'!I23+'３月'!G23 -> 1076855 | J23: ='２月'!J23+'３月'!H23 -> 801935379
A24: 20 | B24: 0 | C24: 0 | E24: 計 | G24: =G6+G8+G10+G12+G14+G16+G18+G20+G22 -> 22496685 | H24: =H6+H8+H10+H12+H14+H16+H18+H20+H22 -> 2956655817 | I24: =I6+I8+I10+I12+I14+I16+I18+I20+I22 -> 50455226 | J24: =J6+J8+J10+J12+J14+J16+J18+J20+J22 -> 9415394513
A25: 21 | B25: 1440082 | C25: 160624234 | F25: 前年計 | G25: =G7+G9+G11+G13+G15+G17+G19+G21+G23 -> 19325208 | H25: =H7+H9+H11+H13+H15+H17+H19+H21+H23 -> 1781215349 | I25: =I7+I9+I11+I13+I15+I17+I19+I21+I23 -> 42962235 | J25: =J7+J9+J11+J13+J15+J17+J19+J21+J23 -> 6219769243
A26: 22 | B26: 0 | C26: 0 | E26: 対前年比 | G26: =G24/G25 -> 1.1641109 | H26: =H24/H25 -> 1.6599092 | I26: =I24/I25 -> 1.1744088 | J26: =J24/J25 -> 1.5137852
A27: 23 | B27: 1446630 | C27: 171397669
A28: 24 | B28: 1212249 | C28: 126758737
A29: 25 | B29: 1344330 | C29: 150657778
A30: 26 | B30: 982384 | C30: 112141693
A31: 27 | B31: 1398606 | C31: 163395132
A32: 28 | B32: 924626 | C32: 101519052
A33: 29 | B33: 0 | C33: 0
A34: 30 | B34: 826718 | C34: 107324071
A35: 31 | B35: 1555128 | C35: 186634680
A36: 計 | B36: =SUM(B5:B35) -> 22496685 | C36: =SUM(C5:C35) -> 2956655817
A37: 前年計 | B37: 19325208 | C37: 1781215349
A38: 対前年比 | B38: =B36/B37 -> 1.1641109 | C38: =C36/C37 -> 1.6599092
A39: 累計 （1～３月） | B39: ='２月'!B39+'３月'!B36 -> 50455226 | C39: ='２月'!C39+'３月'!C36 -> 9415394513
A40: 前年累計 | B40: ='２月'!B40+'３月'!B37 -> 42962235 | C40: ='２月'!C40+'３月'!C37 -> 6219769243
A41: 対前年累計比 | B41: =B39/B40 -> 1.1744088 | C41: =C39/C40 -> 1.5137852

Sheet ４月
A1: 鳥取県営境港水産物地方卸売市場水産物取扱高報告書(令和 ８年 ４月分）
I2: 境港水産物市場管理株式会社
A3: １ 日別取扱状況 | E3: ２ 業態別取扱状況
A4: 日 | B4: 数量（kg) | C4: 金額(円 ） | H4: ４月 | I4: 累計（１～４月）
A5: 1 | B5: 701713 | C5: 78181662 | G5: 数量(kg) | H5: 金額(円 ） | I5: 数量(kg) | J5: 金額(円 ）
A6: 2 | B6: 196487 | C6: 34110526 | E6: まき網 | G6: 20637608 | H6: 2371469704 | I6: ='３月'!I6+'４月'!G6 -> 67237121 | J6: ='３月'!J6+'４月'!H6 -> 9226283555
A7: 3 | B7: 2364219 | C7: 211349096 | F7: 前年 | G7: 16703838 | H7: 932646270 | I7: ='３月'!I7+'４月'!G7 -> 55908175 | J7: ='３月'!J7+'４月'!H7 -> 4342136389
A8: 4 | B8: 1106558 | C8: 108386040 | E8: いかつり | I8: ='３月'!I8+'４月'!G8 -> 4096 | J8: ='３月'!J8+'４月'!H8 -> 5610416
A9: 5 | B9: 0 | C9: 0 | F9: 前年 | G9: 11962 | H9: 15622353 | I9: ='３月'!I9+'４月'!G9 -> 31954 | J9: ='３月'!J9+'４月'!H9 -> 39606486
A10: 6 | B10: 818091 | C10: 86652334 | E10: ベニズワイガニ | G10: 696367 | H10: 248249091 | I10: ='３月'!I10+'４月'!G10 -> 2271627 | J10: ='３月'!J10+'４月'!H10 -> 1149037046
A11: 7 | B11: 1026593 | C11: 116738154 | F11: 前年 | G11: 644958 | H11: 277049160 | I11: ='３月'!I11+'４月'!G11 -> 2204770 | J11: ='３月'!J11+'４月'!H11 -> 1187984286
A12: 8 | B12: 1150595 | C12: 108962132 | E12: 活魚 | G12: 5631 | H12: 9540376 | I12: ='３月'!I12+'４月'!G12 -> 17294 | J12: ='３月'!J12+'４月'!H12 -> 33692310
A13: 9 | B13: 529769 | C13: 64887558 | F13: 前年 | G13: 5153 | H13: 10730705 | I13: ='３月'!I13+'４月'!G13 -> 18948 | J13: ='３月'!J13+'４月'!H13 -> 34580291
A14: 10 | B14: 1577083 | C14: 163131921 | E14: 輸入（ベニズワイガニ） | I14: ='３月'!I14+'４月'!G14 -> 0 | J14: ='３月'!J14+'４月'!H14 -> 0
A15: 11 | B15: 530771 | C15: 60414761 | F15: 前年 | I15: ='３月'!I15+'４月'!G15 -> 0 | J15: ='３月'!J15+'４月'!H15 -> 0
A16: 12 | B16: 0 | C16: 0 | E16: 輸入魚（その他） | I16: ='３月'!I16+'４月'!G16 -> 0 | J16: ='３月'!J16+'４月'!H16 -> 0
A17: 13 | B17: 644030 | C17: 86489960 | F17: 前年 | I17: ='３月'!I17+'４月'!G17 -> 0 | J17: ='３月'!J17+'４月'!H17 -> 0
A18: 14 | B18: 1133712 | C18: 161993044 | E18: 沖合底びき網 | G18: 275161 | H18: 179947135 | I18: ='３月'!I18+'４月'!G18 -> 1239556 | J18: ='３月'!J18+'４月'!H18 -> 1150993560
A19: 15 | B19: 1402819 | C19: 185035360 | F19: 前年 | G19: 376635 | H19: 214625552 | I19: ='３月'!I19+'４月'!G19 -> 1448129 | J19: ='３月'!J19+'４月'!H19 -> 1253391643
A20: 16 | B20: 797354 | C20: 149762708 | E20: 移入魚 | G20: 6455 | H20: 3202797 | I20: ='３月'!I20+'４月'!G20 -> 20829 | J20: ='３月'!J20+'４月'!H20 -> 13073431
A21: 17 | B21: 53330 | C21: 30628930 | F21: 前年 | G21: 6237 | H21: 4293580 | I21: ='３月'!I21+'４月'!G21 -> 22187 | J21: ='３月'!J21+'４月'!H21 -> 15102389
A22: 18 | B22: 674733 | C22: 108579201 | E22: その他 | G22: 612482 | H22: 381638318 | I22: ='３月'!I22+'４月'!G22 -> 1898407 | J22: ='３月'!J22+'４月'!H22 -> 1030751616
A23: 19 | B23: 0 | C23: 0 | F23: 前年 | G23: 867475 | H23: 328046233 | I23: ='３月'!I23+'４月'!G23 -> 1944330 | J23: ='３月'!J23+'４月'!H23 -> 1129981612
A24: 20 | B24: 1442301 | C24: 206765362 | E24: 計 | G24: =G6+G8+G10+G12+G14+G16+G18+G20+G22 -> 22233704 | H24: =H6+H8+H10+H12+H14+H16+H18+H20+H22 -> 3194047421 | I24: =I6+I8+I10+I12+I14+I16+I18+I20+I22 -> 72688930 | J24: =J6+J8+J10+J12+J14+J16+J18+J20+J22 -> 12609441934
A25: 21 | B25: 1003663 | C25: 151852149 | F25: 前年計 | G25: =G7+G9+G11+G13+G15+G17+G19+G21+G23 -> 18616258 | H25: =H7+H9+H11+H13+H15+H17+H19+H21+H23 -> 1783013853 | I25: =I7+I9+I11+I13+I15+I17+I19+I21+I23 -> 61578493 | J25: =J7+J9+J11+J13+J15+J17+J19+J21+J23 -> 8002783096
A26: 22 | B26: 448976 | C26: 97993289 | E26: 対前年比 | G26: =G24/G25 -> 1.1943165 | H26: =H24/H25 -> 1.7913755 | I26: =I24/I25 -> 1.1804272 | J26: =J24/J25 -> 1.5756321
A27: 23 | B27: 1356104 | C27: 270802546
A28: 24 | B28: 59569 | C28: 34171075
A29: 25 | B29: 39386 | C29: 24888789
A30: 26 | B30: 0 | C30: 0
A31: 27 | B31: 838651 | C31: 140563782
A32: 28 | B32: 988742 | C32: 177267289
A33: 29 | B33: 575134 | C33: 134816593
A34: 30 | B34: 773321 | C34: 199623160
B35: 0 | C35: 0
A36: 計 | B36: =SUM(B5:B35) -> 22233704 | C36: =SUM(C5:C35) -> 3194047421
A37: 前年計 | B37: 18616258 | C37: 1783013853
A38: 対前年比 | B38: =B36/B37 -> 1.1943165 | C38: =C36/C37 -> 1.7913755
A39: 累計 （1～4月） | B39: ='３月'!B39+'４月'!B36 -> 72688930 | C39: ='３月'!C39+'４月'!C36 -> 12609441934
A40: 前年累計 | B40: ='３月'!B40+'４月'!B37 -> 61578493 | C40: ='３月'!C40+'４月'!C37 -> 8002783096
A41: 対前年累計比 | B41: =B39/B40 -> 1.1804272 | C41: =C39/C40 -> 1.5756321

Sheet ５月
A1: 鳥取県営境港水産物地方卸売市場水産物取扱高報告書(令和 ８年 ５月分）
I2: 境港水産物市場管理株式会社
A3: １ 日別取扱状況 | E3: ２ 業態別取扱状況
A4: 日 | B4: 数量（kg) | C4: 金額(円 ） | H4: ５月 | I4: 累計（１～５月）
A5: 1 | B5: 202148 | C5: 58632779 | G5: 数量(kg) | H5: 金額(円 ） | I5: 数量(kg) | J5: 金額(円 ）
A6: 2 | B6: 496409 | C6: 104099993 | E6: まき網 | G6: 16714203 | H6: 2515894182 | I6: ='４月'!I6+'５月'!G6 -> 83951324 | J6: ='４月'!J6+'５月'!H6 -> 11742177737
A7: 3 | B7: 0 | C7: 0 | F7: 前年 | G7: 15611623 | H7: 1385238557 | I7: ='４月'!I7+'５月'!G7 -> 71519798 | J7: ='４月'!J7+'５月'!H7 -> 5727374946
A8: 4 | B8: 0 | C8: 0 | E8: いかつり | G8: 180 | H8: 127332 | I8: ='４月'!I8+'５月'!G8 -> 4276 | J8: ='４月'!J8+'５月'!H8 -> 5737748
A9: 5 | B9: 0 | C9: 0 | F9: 前年 | G9: 925 | H9: 1756512 | I9: ='４月'!I9+'５月'!G9 -> 32879 | J9: ='４月'!J9+'５月'!H9 -> 41362998
A10: 6 | B10: 0 | C10: 0 | E10: ベニズワイガニ | G10: 470447 | H10: 254426076 | I10: ='４月'!I10+'５月'!G10 -> 2742074 | J10: ='４月'!J10+'５月'!H10 -> 1403463122
A11: 7 | B11: 607906 | C11: 153302567 | F11: 前年 | G11: 477650 | H11: 231560921 | I11: ='４月'!I11+'５月'!G11 -> 2682420 | J11: ='４月'!J11+'５月'!H11 -> 1419545207
A12: 8 | B12: 923317 | C12: 202004307 | E12: 活魚 | G12: 4496 | H12: 8935958 | I12: ='４月'!I12+'５月'!G12 -> 21790 | J12: ='４月'!J12+'５月'!H12 -> 42628268
A13: 9 | B13: 144356 | C13: 42214148 | F13: 前年 | G13: 4035 | H13: 8953710 | I13: ='４月'!I13+'５月'!G13 -> 22983 | J13: ='４月'!J13+'５月'!H13 -> 43534001
A14: 10 | B14: 0 | C14: 0 | E14: 輸入（ベニズワイガニ） | I14: ='４月'!I14+'５月'!G14 -> 0 | J14: ='４月'!J14+'５月'!H14 -> 0
A15: 11 | B15: 717951 | C15: 139556740 | F15: 前年 | I15: ='４月'!I15+'５月'!G15 -> 0 | J15: ='４月'!J15+'５月'!H15 -> 0
A16: 12 | B16: 877170 | C16: 146749265 | E16: 輸入魚（その他） | I16: ='４月'!I16+'５月'!G16 -> 0 | J16: ='４月'!J16+'５月'!H16 -> 0
A17: 13 | B17: 1498604 | C17: 180365191 | F17: 前年 | I17: ='４月'!I17+'５月'!G17 -> 0 | J17: ='４月'!J17+'５月'!H17 -> 0
A18: 14 | B18: 1789879 | C18: 195309691 | E18: 沖合底びき網 | G18: 475331 | H18: 218809589 | I18: ='４月'!I18+'５月'!G18 -> 1714887 | J18: ='４月'!J18+'５月'!H18 -> 1369803149
A19: 15 | B19: 1460304 | C19: 162984239 | F19: 前年 | G19: 547787 | H19: 313132002 | I19: ='４月'!I19+'５月'!G19 -> 1995916 | J19: ='４月'!J19+'５月'!H19 -> 1566523645
A20: 16 | B20: 1254964 | C20: 163495576 | E20: 移入魚 | G20: 4423 | H20: 2928788 | I20: ='４月'!I20+'５月'!G20 -> 25252 | J20: ='４月'!J20+'５月'!H20 -> 16002219
A21: 17 | B21: 0 | C21: 0 | F21: 前年 | G21: 7134 | H21: 4999075 | I21: ='４月'!I21+'５月'!G21 -> 29321 | J21: ='４月'!J21+'５月'!H21 -> 20101464
A22: 18 | B22: 395399 | C22: 75625833 | E22: その他 | G22: 658297 | H22: 360955744 | I22: ='４月'!I22+'５月'!G22 -> 2556704 | J22: ='４月'!J22+'５月'!H22 -> 1391707360
A23: 19 | B23: 2053552 | C23: 278756881 | F23: 前年 | G23: 794428 | H23: 397316235 | I23: ='４月'!I23+'５月'!G23 -> 2738758 | J23: ='４月'!J23+'５月'!H23 -> 1527297847
A24: 20 | B24: 680213 | C24: 153410437 | E24: 計 | G24: =G6+G8+G10+G12+G14+G16+G18+G20+G22 -> 18327377 | H24: =H6+H8+H10+H12+H14+H16+H18+H20+H22 -> 3362077669 | I24: =I6+I8+I10+I12+I14+I16+I18+I20+I22 -> 91016307 | J24: =J6+J8+J10+J12+J14+J16+J18+J20+J22 -> 15971519603
A25: 21 | B25: 912676 | C25: 163285836 | F25: 前年計 | G25: =G7+G9+G11+G13+G15+G17+G19+G21+G23 -> 17443582 | H25: =H7+H9+H11+H13+H15+H17+H19+H21+H23 -> 2342957012 | I25: =I7+I9+I11+I13+I15+I17+I19+I21+I23 -> 79022075 | J25: =J7+J9+J11+J13+J15+J17+J19+J21+J23 -> 10345740108
A26: 22 | B26: 46047 | C26: 26845623 | E26: 対前年比 | G26: =G24/G25 -> 1.0506659 | H26: =H24/H25 -> 1.434972 | I26: =I24/I25 -> 1.1517833 | J26: =J24/J25 -> 1.5437774
A27: 23 | B27: 48977 | C27: 29830177
A28: 24 | B28: 0 | C28: 0
A29: 25 | B29: 516452 | C29: 142892589
A30: 26 | B30: 1226005 | C30: 277519968
A31: 27 | B31: 1074131 | C31: 246617277
A32: 28 | B32: 814243 | C32: 196105529
A33: 29 | B33: 268200 | C33: 133058238
A34: 30 | B34: 318474 | C34: 89414785
A35: 31 | B35: 0 | C35: 0
A36: 計 | B36: =SUM(B5:B35) -> 18327377 | C36: =SUM(C5:C35) -> 3362077669
A37: 前年計 | B37: 17443582 | C37: 2342957012
A38: 対前年比 | B38: =B36/B37 -> 1.0506659 | C38: =C36/C37 -> 1.434972
A39: 累計 （1～5月） | B39: ='４月'!B39+'５月'!B36 -> 91016307 | C39: ='４月'!C39+'５月'!C36 -> 15971519603
A40: 前年累計 | B40: ='４月'!B40+'５月'!B37 -> 79022075 | C40: ='４月'!C40+'５月'!C37 -> 10345740108
A41: 対前年累計比 | B41: =B39/B40 -> 1.1517833 | C41: =C39/C40 -> 1.5437774

Sheet ６月
A1: 鳥取県営境港水産物地方卸売市場水産物取扱高報告書(令和 ８年 ６月分）
I2: 境港水産物市場管理株式会社
A3: １ 日別取扱状況 | E3: ２ 業態別取扱状況
A4: 日 | B4: 数量（kg) | C4: 金額(円 ） | H4: ６月 | I4: 累計（１～６月）
A5: 1 | B5: 311114 | C5: 174077526 | G5: 数量(kg) | H5: 金額(円 ） | I5: 数量(kg) | J5: 金額(円 ）
A6: 2 | B6: 720361 | C6: 185274789 | E6: まき網 | G6: 9482297 | H6: 3042744330 | I6: ='５月'!I6+'６月'!G6 -> 93433621 | J6: ='５月'!J6+'６月'!H6 -> 14784922067
A7: 3 | B7: 88590 | C7: 71394044 | F7: 前年 | G7: 12290134 | H7: 2019244758 | I7: ='５月'!I7+'６月'!G7 -> 83809932 | J7: ='５月'!J7+'６月'!H7 -> 7746619704
A8: 4 | B8: 243043 | C8: 182594397 | E8: いかつり | G8: 15686 | H8: 19488114 | I8: ='５月'!I8+'６月'!G8 -> 19962 | J8: ='５月'!J8+'６月'!H8 -> 25225862
A9: 5 | B9: 523866 | C9: 170672858 | F9: 前年 | G9: 4434 | H9: 6288325 | I9: ='５月'!I9+'６月'!G9 -> 37313 | J9: ='５月'!J9+'６月'!H9 -> 47651323
A10: 6 | B10: 857846 | C10: 224916052 | E10: ベニズワイガニ | G10: 626972 | H10: 331254792 | I10: ='５月'!I10+'６月'!G10 -> 3369046 | J10: ='５月'!J10+'６月'!H10 -> 1734717914
A11: 7 | B11: 0 | C11: 0 | F11: 前年 | G11: 599332 | H11: 225193414 | I11: ='５月'!I11+'６月'!G11 -> 3281752 | J11: ='５月'!J11+'６月'!H11 -> 1644738621
A12: 8 | B12: 91506 | C12: 115336547 | E12: 活魚 | G12: 3117 | H12: 6566761 | I12: ='５月'!I12+'６月'!G12 -> 24907 | J12: ='５月'!J12+'６月'!H12 -> 49195029
A13: 9 | B13: 372319 | C13: 151849745 | F13: 前年 | G13: 3427 | H13: 6284922 | I13: ='５月'!I13+'６月'!G13 -> 26410 | J13: ='５月'!J13+'６月'!H13 -> 49818923
A14: 10 | B14: 224293 | C14: 69629829 | E14: 輸入（ベニズワイガニ） | I14: ='５月'!I14+'６月'!G14 -> 0 | J14: ='５月'!J14+'６月'!H14 -> 0
A15: 11 | B15: 533303 | C15: 241236981 | F15: 前年 | I15: ='５月'!I15+'６月'!G15 -> 0 | J15: ='５月'!J15+'６月'!H15 -> 0
A16: 12 | B16: 310151 | C16: 136377051 | E16: 輸入魚（その他） | I16: ='５月'!I16+'６月'!G16 -> 0 | J16: ='５月'!J16+'６月'!H16 -> 0
A17: 13 | B17: 660144 | C17: 158038898 | F17: 前年 | I17: ='５月'!I17+'６月'!G17 -> 0 | J17: ='５月'!J17+'６月'!H17 -> 0
A18: 14 | B18: 0 | C18: 0 | E18: 沖合底びき網 | I18: ='５月'!I18+'６月'!G18 -> 1714887 | J18: ='５月'!J18+'６月'!H18 -> 1369803149
A19: 15 | B19: 617053 | C19: 201162576 | F19: 前年 | I19: ='５月'!I19+'６月'!G19 -> 1995916 | J19: ='５月'!J19+'６月'!H19 -> 1566523645
A20: 16 | B20: 480337 | C20: 185982724 | E20: 移入魚 | G20: 7211 | H20: 5363099 | I20: ='５月'!I20+'６月'!G20 -> 32463 | J20: ='５月'!J20+'６月'!H20 -> 21365318
A21: 17 | B21: 854239 | C21: 267611416 | F21: 前年 | G21: 11512 | H21: 7100800 | I21: ='５月'!I21+'６月'!G21 -> 40833 | J21: ='５月'!J21+'６月'!H21 -> 27202264
A22: 18 | B22: 799031 | C22: 236302827 | E22: その他 | G22: 609992 | H22: 381552149 | I22: ='５月'!I22+'６月'!G22 -> 3166696 | J22: ='５月'!J22+'６月'!H22 -> 1773259509
A23: 19 | B23: 482917 | C23: 155314370 | F23: 前年 | G23: 850931 | H23: 383165378 | I23: ='５月'!I23+'６月'!G23 -> 3589689 | J23: ='５月'!J23+'６月'!H23 -> 1910463225
A24: 20 | B24: 448676 | C24: 130496463 | E24: 計 | G24: =G6+G8+G10+G12+G14+G16+G18+G20+G22 -> 10745275 | H24: =H6+H8+H10+H12+H14+H16+H18+H20+H22 -> 3786969245 | I24: =I6+I8+I10+I12+I14+I16+I18+I20+I22 -> 101761582 | J24: =J6+J8+J10+J12+J14+J16+J18+J20+J22 -> 19758488848
A25: 21 | B25: 0 | C25: 0 | F25: 前年計 | G25: =G7+G9+G11+G13+G15+G17+G19+G21+G23 -> 13759770 | H25: =H7+H9+H11+H13+H15+H17+H19+H21+H23 -> 2647277597 | I25: =I7+I9+I11+I13+I15+I17+I19+I21+I23 -> 92781845 | J25: =J7+J9+J11+J13+J15+J17+J19+J21+J23 -> 12993017705
A26: 22 | B26: 44427 | C26: 43137012 | E26: 対前年比 | G26: =G24/G25 -> 0.78091967 | H26: =H24/H25 -> 1.4305146 | I26: =I24/I25 -> 1.0967833 | J26: =J24/J25 -> 1.5207005
A27: 23 | B27: 146369 | C27: 78083650
A28: 24 | B28: 74742 | C28: 37128027
A29: 25 | B29: 102702 | C29: 85092697
A30: 26 | B30: 221832 | C30: 80862734
A31: 27 | B31: 397012 | C31: 134554952
A32: 28 | B32: 0 | C32: 0
A33: 29 | B33: 301844 | C33: 76823080
A34: 30 | B34: 837558 | C34: 193018000
A36: 計 | B36: =SUM(B5:B35) -> 10745275 | C36: =SUM(C5:C35) -> 3786969245
A37: 前年計 | B37: 13759770 | C37: 2647277597
A38: 対前年比 | B38: =B36/B37 -> 0.78091967 | C38: =C36/C37 -> 1.4305146
A39: 累計 （1～6月） | B39: ='５月'!B39+'６月'!B36 -> 101761582 | C39: ='５月'!C39+'６月'!C36 -> 19758488848
A40: 前年累計 | B40: ='５月'!B40+'６月'!B37 -> 92781845 | C40: ='５月'!C40+'６月'!C37 -> 12993017705
A41: 対前年累計比 | B41: =B39/B40 -> 1.0967833 | C41: =C39/C40 -> 1.5207005

Sheet 7月
A1: 鳥取県営境港水産物地方卸売市場水産物取扱高報告書(令和 ８年 ７月分）
I2: 境港水産物市場管理株式会社
A3: １ 日別取扱状況 | E3: ２ 業態別取扱状況
A4: 日 | B4: 数量（kg) | C4: 金額(円 ） | H4: 7月 | I4: 累計（１～7月）
A5: 1 | B5: 449130 | C5: 150288470 | G5: 数量(kg) | H5: 金額(円 ） | I5: 数量(kg) | J5: 金額(円 ）
A6: 2 | B6: 71733 | C6: 51515998 | E6: まき網 | G6: 6541658 | H6: 1774539733 | I6: ='６月'!I6+'7月'!G6 -> 99975279 | J6: ='６月'!J6+'7月'!H6 -> 16559461800
A7: 3 | B7: 254574 | C7: 113890592 | F7: 前年 | G7: 7453141 | H7: 793563207 | I7: ='６月'!I7+'7月'!G7 -> 91263073 | J7: ='６月'!J7+'7月'!H7 -> 8540182911
A8: 4 | B8: 557816 | C8: 175012533 | E8: いかつり | G8: 13223 | H8: 17881293 | I8: ='６月'!I8+'7月'!G8 -> 33185 | J8: ='６月'!J8+'7月'!H8 -> 43107155
A9: 5 | B9: 0 | C9: 0 | F9: 前年 | G9: 1236 | H9: 1651125 | I9: ='６月'!I9+'7月'!G9 -> 38549 | J9: ='６月'!J9+'7月'!H9 -> 49302448
A10: 6 | B10: 502470 | C10: 156564967 | E10: ベニズワイガニ | G10: 66422 | H10: 28981908 | I10: ='６月'!I10+'7月'!G10 -> 3435468 | J10: ='６月'!J10+'7月'!H10 -> 1763699822
A11: 7 | B11: 241321 | C11: 59401748 | F11: 前年 | G11: 52802 | H11: 19619820 | I11: ='６月'!I11+'7月'!G11 -> 3334554 | J11: ='６月'!J11+'7月'!H11 -> 1664358441
A12: 8 | B12: 618026 | C12: 173056097 | E12: 活魚 | G12: 6926 | H12: 10032537 | I12: ='６月'!I12+'7月'!G12 -> 31833 | J12: ='６月'!J12+'7月'!H12 -> 59227566
A13: 9 | B13: 370989 | C13: 81683510 | F13: 前年 | G13: 5147 | H13: 7836679 | I13: ='６月'!I13+'7月'!G13 -> 31557 | J13: ='６月'!J13+'7月'!H13 -> 57655602
A14: 10 | B14: 445125 | C14: 144273103 | E14: 輸入（ベニズワイガニ） | I14: ='６月'!I14+'7月'!G14 -> 0 | J14: ='６月'!J14+'7月'!H14 -> 0
A15: 11 | B15: 223138 | C15: 59420253 | F15: 前年 | I15: ='６月'!I15+'7月'!G15 -> 0 | J15: ='６月'!J15+'7月'!H15 -> 0
A16: 12 | B16: 0 | C16: 0 | E16: 輸入魚（その他） | I16: ='６月'!I16+'7月'!G16 -> 0 | J16: ='６月'!J16+'7月'!H16 -> 0
A17: 13 | B17: 583517 | C17: 140975954 | F17: 前年 | I17: ='６月'!I17+'7月'!G17 -> 0 | J17: ='６月'!J17+'7月'!H17 -> 0
A18: 14 | B18: 105914 | C18: 29259469 | E18: 沖合底びき網 | I18: ='６月'!I18+'7月'!G18 -> 1714887 | J18: ='６月'!J18+'7月'!H18 -> 1369803149
A19: 15 | B19: 20924 | C19: 12358652 | F19: 前年 | I19: ='６月'!I19+'7月'!G19 -> 1995916 | J19: ='６月'!J19+'7月'!H19 -> 1566523645
A20: 16 | B20: 9842 | C20: 9685626 | E20: 移入魚 | G20: 1244 | H20: 2000921 | I20: ='６月'!I20+'7月'!G20 -> 33707 | J20: ='６月'!J20+'7月'!H20 -> 23366239
A21: 17 | B21: 232172 | C21: 60405780 | F21: 前年 | G21: 4920 | H21: 4964528 | I21: ='６月'!I21+'7月'!G21 -> 45753 | J21: ='６月'!J21+'7月'!H21 -> 32166792
A22: 18 | B22: 452069 | C22: 123365454 | E22: その他 | G22: 428402 | H22: 327807901 | I22: ='６月'!I22+'7月'!G22 -> 3595098 | J22: ='６月'!J22+'7月'!H22 -> 2101067410
A23: 19 | B23: 0 | C23: 0 | F23: 前年 | G23: 470550 | H23: 303567842 | I23: ='６月'!I23+'7月'!G23 -> 4060239 | J23: ='６月'!J23+'7月'!H23 -> 2214031067
A24: 20 | B24: 0 | C24: 0 | E24: 計 | G24: =G6+G8+G10+G12+G14+G16+G18+G20+G22 -> 7057875 | H24: =H6+H8+H10+H12+H14+H16+H18+H20+H22 -> 2161244293 | I24: =I6+I8+I10+I12+I14+I16+I18+I20+I22 -> 108819457 | J24: =J6+J8+J10+J12+J14+J16+J18+J20+J22 -> 21919733141
A25: 21 | B25: 102262 | C25: 62938001 | F25: 前年計 | G25: =G7+G9+G11+G13+G15+G17+G19+G21+G23 -> 7987796 | H25: =H7+H9+H11+H13+H15+H17+H19+H21+H23 -> 1131203201 | I25: =I7+I9+I11+I13+I15+I17+I19+I21+I23 -> 100769641 | J25: =J7+J9+J11+J13+J15+J17+J19+J21+J23 -> 14124220906
A26: 22 | B26: 176151 | C26: 67219609 | E26: 対前年比 | G26: =G24/G25 -> 0.88358228 | H26: =H24/H25 -> 1.9105712 | I26: =I24/I25 -> 1.0798833 | J26: =J24/J25 -> 1.5519251
A27: 23 | B27: 117030 | C27: 46984728
A28: 24 | B28: 320887 | C28: 85853921
A29: 25 | B29: 481346 | C29: 126805594
A30: 26 | B30: 0 | C30: 0
A31: 27 | B31: 263080 | C31: 72808388
A32: 28 | B32: 311945 | C32: 87443698
A33: 29 | B33: 121697 | C33: 43765566
A34: 30 | B34: 6855 | C34: 6975660
A35: 31 | B35: 17862 | C35: 19290922
A36: 計 | B36: =SUM(B5:B35) -> 7057875 | C36: =SUM(C5:C35) -> 2161244293
A37: 前年計 | B37: 7987796 | C37: 1131203201
A38: 対前年比 | B38: =B36/B37 -> 0.88358228 | C38: =C36/C37 -> 1.9105712
A39: 累計 （1～7月） | B39: ='６月'!B39+'7月'!B36 -> 108819457 | C39: ='６月'!C39+'7月'!C36 -> 21919733141
A40: 前年累計 | B40: ='６月'!B40+'7月'!B37 -> 100769641 | C40: ='６月'!C40+'7月'!C37 -> 14124220906
A41: 対前年累計比 | B41: =B39/B40 -> 1.0798833 | C41: =C39/C40 -> 1.5519251

Sheet ８月
A1: 鳥取県営境港水産物地方卸売市場水産物取扱高報告書(令和 ８年 ８月分）
I2: 境港水産物市場管理株式会社
A3: １ 日別取扱状況 | E3: ２ 業態別取扱状況
A4: 日 | B4: 数量（kg) | C4: 金額(円 ） | H4: ８月 | I4: 累計（１～８月）
A5: 1 | B5: 19125 | C5: 18764443 | G5: 数量(kg) | H5: 金額(円 ） | I5: 数量(kg) | J5: 金額(円 ）
A6: 2 | B6: 0 | C6: 0 | E6: まき網 | G6: 3486898 | H6: 1132233841 | I6: ='7月'!I6+'８月'!G6 -> 103462177 | J6: ='7月'!J6+'８月'!H6 -> 17691695641
A7: 3 | B7: 153036 | C7: 55211267 | F7: 前年 | G7: 2597470 | H7: 516068360 | I7: ='7月'!I7+'８月'!G7 -> 93860543 | J7: ='7月'!J7+'８月'!H7 -> 9056251271
A8: 4 | B8: 186405 | C8: 103524180 | E8: いかつり | G8: 17003 | H8: 24636862 | I8: ='7月'!I8+'８月'!G8 -> 50188 | J8: ='7月'!J8+'８月'!H8 -> 67744017
A9: 5 | B9: 95127 | C9: 62784224 | F9: 前年 | G9: 5685 | H9: 10305630 | I9: ='7月'!I9+'８月'!G9 -> 44234 | J9: ='7月'!J9+'８月'!H9 -> 59608078
A10: 6 | B10: 404874 | C10: 189212280 | E10: ベニズワイガニ | I10: ='7月'!I10+'８月'!G10 -> 3435468 | J10: ='7月'!J10+'８月'!H10 -> 1763699822
A11: 7 | B11: 104771 | C11: 42728617 | F11: 前年 | G11: 0 | H11: 0 | I11: ='7月'!I11+'８月'!G11 -> 3334554 | J11: ='7月'!J11+'８月'!H11 -> 1664358441
A12: 8 | B12: 165650 | C12: 71701580 | E12: 活魚 | G12: 6433 | H12: 12065081 | I12: ='7月'!I12+'８月'!G12 -> 38266 | J12: ='7月'!J12+'８月'!H12 -> 71292647
A13: 9 | B13: 0 | C13: 0 | F13: 前年 | G13: 6978 | H13: 12908200 | I13: ='7月'!I13+'８月'!G13 -> 38535 | J13: ='7月'!J13+'８月'!H13 -> 70563802
A14: 10 | B14: 14513 | C14: 19770945 | E14: 輸入（ベニズワイガニ） | I14: ='7月'!I14+'８月'!G14 -> 0 | J14: ='7月'!J14+'８月'!H14 -> 0
A15: 11 | B15: 4425 | C15: 10399772 | F15: 前年 | I15: ='7月'!I15+'８月'!G15 -> 0 | J15: ='7月'!J15+'８月'!H15 -> 0
A16: 12 | B16: 7596 | C16: 14681434 | E16: 輸入魚（その他） | I16: ='7月'!I16+'８月'!G16 -> 0 | J16: ='7月'!J16+'８月'!H16 -> 0
A17: 13 | B17: 0 | C17: 0 | F17: 前年 | I17: ='7月'!I17+'８月'!G17 -> 0 | J17: ='7月'!J17+'８月'!H17 -> 0
A18: 14 | B18: 0 | C18: 0 | E18: 沖合底びき網 | I18: ='7月'!I18+'８月'!G18 -> 1714887 | J18: ='7月'!J18+'８月'!H18 -> 1369803149
A19: 15 | B19: 0 | C19: 0 | F19: 前年 | I19: ='7月'!I19+'８月'!G19 -> 1995916 | J19: ='7月'!J19+'８月'!H19 -> 1566523645
A20: 16 | B20: 0 | C20: 0 | E20: 移入魚 | G20: 1679 | H20: 2438360 | I20: ='7月'!I20+'８月'!G20 -> 35386 | J20: ='7月'!J20+'８月'!H20 -> 25804599
A21: 17 | B21: 0 | C21: 0 | F21: 前年 | G21: 4082 | H21: 3544032 | I21: ='7月'!I21+'８月'!G21 -> 49835 | J21: ='7月'!J21+'８月'!H21 -> 35710824
A22: 18 | B22: 333898 | C22: 145872954 | E22: その他 | G22: 260042 | H22: 257374479 | I22: ='7月'!I22+'８月'!G22 -> 3855140 | J22: ='7月'!J22+'８月'!H22 -> 2358441889
A23: 19 | B23: 254332 | C23: 102543011 | F23: 前年 | G23: 300553 | H23: 260316936 | I23: ='7月'!I23+'８月'!G23 -> 4360792 | J23: ='7月'!J23+'８月'!H23 -> 2474348003
A24: 20 | B24: 273816 | C24: 92152315 | E24: 計 | G24: =G6+G8+G10+G12+G14+G16+G18+G20+G22 -> 3772055 | H24: =H6+H8+H10+H12+H14+H16+H18+H20+H22 -> 1428748623 | I24: =I6+I8+I10+I12+I14+I16+I18+I20+I22 -> 112591512 | J24: =J6+J8+J10+J12+J14+J16+J18+J20+J22 -> 23348481764
A25: 21 | B25: 151148 | C25: 62666326 | F25: 前年計 | G25: =G7+G9+G11+G13+G15+G17+G19+G21+G23 -> 2914768 | H25: =H7+H9+H11+H13+H15+H17+H19+H21+H23 -> 803143158 | I25: =I7+I9+I11+I13+I15+I17+I19+I21+I23 -> 103684409 | J25: =J7+J9+J11+J13+J15+J17+J19+J21+J23 -> 14927364064
A26: 22 | B26: 316968 | C26: 82656392 | E26: 対前年比 | G26: =G24/G25 -> 1.2941184 | H26: =H24/H25 -> 1.7789464 | I26: =I24/I25 -> 1.0859059 | J26: =J24/J25 -> 1.5641396
A27: 23 | B27: 0 | C27: 0
A28: 24 | B28: 151989 | C28: 52176693
A29: 25 | B29: 266206 | C29: 64307642
A30: 26 | B30: 176331 | C30: 46337547
A31: 27 | B31: 227246 | C31: 64411648
A32: 28 | B32: 36383 | C32: 32653654
A33: 29 | B33: 5786 | C33: 6629690
A34: 30 | B34: 0 | C34: 0
A35: 31 | B35: 422430 | C35: 87562009
A36: 計 | B36: =SUM(B5:B35) -> 3772055 | C36: =SUM(C5:C35) -> 1428748623
A37: 前年計 | B37: 2914768 | C37: 803143158
A38: 対前年比 | B38: =B36/B37 -> 1.2941184 | C38: =C36/C37 -> 1.7789464
A39: 累計 （1～８月） | B39: ='7月'!B39+'８月'!B36 -> 112591512 | C39: ='7月'!C39+'８月'!C36 -> 23348481764
A40: 前年累計 | B40: ='7月'!B40+'８月'!B37 -> 103684409 | C40: ='7月'!C40+'８月'!C37 -> 14927364064
A41: 対前年累計比 | B41: =B39/B40 -> 1.0859059 | C41: =C39/C40 -> 1.5641396

Sheet ９月
A1: 鳥取県営境港水産物地方卸売市場水産物取扱高報告書(令和 ８年 ９月分）
I2: 境港水産物市場管理株式会社
A3: １ 日別取扱状況 | E3: ２ 業態別取扱状況
A4: 日 | B4: 数量（kg) | C4: 金額(円 ） | H4: ９月 | I4: 累計（１～９月）
A5: 1 | B5: 341874 | C5: 101730895 | G5: 数量(kg) | H5: 金額(円 ） | I5: 数量(kg) | J5: 金額(円 ）
A6: 2 | B6: 467327 | C6: 134005408 | E6: まき網 | G6: 12950032 | H6: 1976085098 | I6: ='[1]８月'!I6+'[1]９月'!G6 -> 116412209 | J6: ='[1]８月'!J6+'[1]９月'!H6 -> 19667780739
A7: 3 | B7: 524637 | C7: 128677081 | F7: 前年 | G7: 5288582 | H7: 1044362156 | I7: ='[1]８月'!I7+'[1]９月'!G7 -> 99149125 | J7: ='[1]８月'!J7+'[1]９月'!H7 -> 10100613427
A8: 4 | B8: 417537 | C8: 111373942 | E8: いかつり | G8: 30258 | H8: 44293641 | I8: ='[1]８月'!I8+'[1]９月'!G8 -> 80446 | J8: ='[1]８月'!J8+'[1]９月'!H8 -> 112037658
A9: 5 | B9: 136514 | C9: 109864935 | F9: 前年 | G9: 14657 | H9: 25864305 | I9: ='[1]８月'!I9+'[1]９月'!G9 -> 58891 | J9: ='[1]８月'!J9+'[1]９月'!H9 -> 85472383
A10: 6 | B10: 12366 | C10: 18087106 | E10: ベニズワイガニ | G10: 432740 | H10: 223135484 | I10: ='[1]８月'!I10+'[1]９月'!G10 -> 3868208 | J10: ='[1]８月'!J10+'[1]９月'!H10 -> 1986835306
A11: 7 | B11: 69217 | C11: 38366642 | F11: 前年 | G11: 450336 | H11: 181175400 | I11: ='[1]８月'!I11+'[1]９月'!G11 -> 3784890 | J11: ='[1]８月'!J11+'[1]９月'!H11 -> 1845533841
A12: 8 | B12: 579243 | C12: 161224215 | E12: 活魚 | G12: 4708 | H12: 9708849 | I12: ='[1]８月'!I12+'[1]９月'!G12 -> 42974 | J12: ='[1]８月'!J12+'[1]９月'!H12 -> 81001496
A13: 9 | B13: 999339 | C13: 278298788 | F13: 前年 | G13: 4629 | H13: 8128429 | I13: ='[1]８月'!I13+'[1]９月'!G13 -> 43164 | J13: ='[1]８月'!J13+'[1]９月'!H13 -> 78692231
A14: 10 | B14: 16760 | C14: 12246202 | E14: 輸入（ベニズワイガニ） | I14: ='[1]８月'!I14+'[1]９月'!G14 -> 0 | J14: ='[1]８月'!J14+'[1]９月'!H14 -> 0
A15: 11 | B15: 139667 | C15: 98957380 | F15: 前年 | I15: ='[1]８月'!I15+'[1]９月'!G15 -> 0 | J15: ='[1]８月'!J15+'[1]９月'!H15 -> 0
A16: 12 | B16: 217280 | C16: 65941875 | E16: 輸入魚（その他） | I16: ='[1]８月'!I16+'[1]９月'!G16 -> 0 | J16: ='[1]８月'!J16+'[1]９月'!H16 -> 0
A17: 13 | B17: 0 | C17: 0 | F17: 前年 | I17: ='[1]８月'!I17+'[1]９月'!G17 -> 0 | J17: ='[1]８月'!J17+'[1]９月'!H17 -> 0
A18: 14 | B18: 1746854 | C18: 233823719 | E18: 沖合底びき網 | G18: 537662 | H18: 453143629 | I18: ='[1]８月'!I18+'[1]９月'!G18 -> 2252549 | J18: ='[1]８月'!J18+'[1]９月'!H18 -> 1822946778
A19: 15 | B19: 1032266 | C19: 120047828 | F19: 前年 | G19: 627124 | H19: 451581167 | I19: ='[1]８月'!I19+'[1]９月'!G19 -> 2623040 | J19: ='[1]８月'!J19+'[1]９月'!H19 -> 2018104812
A20: 16 | B20: 1188589 | C20: 135516155 | E20: 移入魚 | G20: 2193 | H20: 2057047 | I20: ='[1]８月'!I20+'[1]９月'!G20 -> 37579 | J20: ='[1]８月'!J20+'[1]９月'!H20 -> 27861646
A21: 17 | B21: 416998 | C21: 128782774 | F21: 前年 | G21: 5057 | H21: 3122673 | I21: ='[1]８月'!I21+'[1]９月'!G21 -> 54892 | J21: ='[1]８月'!J21+'[1]９月'!H21 -> 38833497
A22: 18 | B22: 93719 | C22: 59905094 | E22: その他 | G22: 300006 | H22: 219100304 | I22: ='[1]８月'!I22+'[1]９月'!G22 -> 4155146 | J22: ='[1]８月'!J22+'[1]９月'!H22 -> 2577542193
A23: 19 | B23: 52115 | C23: 37586982 | F23: 前年 | G23: 321840 | H23: 198915731 | I23: ='[1]８月'!I23+'[1]９月'!G23 -> 4682632 | J23: ='[1]８月'!J23+'[1]９月'!H23 -> 2673263734
A24: 20 | B24: 0 | C24: 0 | E24: 計 | G24: =G6+G8+G10+G12+G14+G16+G18+G20+G22 -> 14257599 | H24: =H6+H8+H10+H12+H14+H16+H18+H20+H22 -> 2927524052 | I24: =I6+I8+I10+I12+I14+I16+I18+I20+I22 -> 126849111 | J24: =J6+J8+J10+J12+J14+J16+J18+J20+J22 -> 26276005816
A25: 21 | B25: 0 | C25: 0 | F25: 前年計 | G25: =G7+G9+G11+G13+G15+G17+G19+G21+G23 -> 6712225 | H25: =H7+H9+H11+H13+H15+H17+H19+H21+H23 -> 1913149861 | I25: =I7+I9+I11+I13+I15+I17+I19+I21+I23 -> 110396634 | J25: =J7+J9+J11+J13+J15+J17+J19+J21+J23 -> 16840513925
A26: 22 | B26: 122220 | C26: 94383543 | E26: 対前年比 | G26: =G24/G25 -> 2.1241241 | H26: =H24/H25 -> 1.5302116 | I26: =I24/I25 -> 1.1490306 | J26: =J24/J25 -> 1.5602853
A27: 23 | B27: 0 | C27: 0
A28: 24 | B28: 374534 | C28: 120170379
A29: 25 | B29: 1308767 | C29: 190542326
A30: 26 | B30: 825481 | C30: 89746157
A31: 27 | B31: 0 | C31: 0
A32: 28 | B32: 1126062 | C32: 157687361
A33: 29 | B33: 800916 | C33: 105406659
A34: 30 | B34: 1247317 | C34: 195150606
B35: 0 | C35: 0
A36: 計 | B36: =SUM(B5:B35) -> 14257599 | C36: =SUM(C5:C35) -> 2927524052
A37: 前年計 | B37: 6712225 | C37: 1913149861
A38: 対前年比 | B38: =B36/B37 -> 2.1241241 | C38: =C36/C37 -> 1.5302116
A39: 累計 （1～9月） | B39: ='８月'!B39+'９月'!B36 -> 126849111 | C39: ='８月'!C39+'９月'!C36 -> 26276005816
A40: 前年累計 | B40: ='８月'!B40+'９月'!B37 -> 110396634 | C40: ='８月'!C40+'９月'!C37 -> 16840513925
A41: 対前年累計比 | B41: =B39/B40 -> 1.1490306 | C41: =C39/C40 -> 1.5602853

Sheet 10月
A1: 鳥取県営境港水産物地方卸売市場水産物取扱高報告書（令和 ８年 １０月分）
I2: 境港水産物市場管理株式会社
A3: １ 日別取扱状況 | E3: ２ 業態別取扱状況
A4: 日 | B4: 数量（kg) | C4: 金額(円 ） | H4: １０月 | I4: 累計（１～１０月）
A5: 1 | G5: 数量(kg) | H5: 金額(円 ） | I5: 数量(kg) | J5: 金額(円 ）
A6: 2 | E6: まき網
A7: 3 | F7: 前年
A8: 4 | E8: いかつり
A9: 5 | F9: 前年
A10: 6 | E10: ベニズワイガニ
A11: 7 | F11: 前年
A12: 8 | E12: 活魚
A13: 9 | F13: 前年
A14: 10 | E14: 輸入（ベニズワイガニ）
A15: 11 | F15: 前年
A16: 12 | E16: 輸入魚（その他）
A17: 13 | F17: 前年
A18: 14 | E18: 沖合底びき網
A19: 15 | F19: 前年
A20: 16 | E20: 移入魚
A21: 17 | F21: 前年
A22: 18 | E22: その他
A23: 19 | F23: 前年
A24: 20 | E24: 計
A25: 21 | F25: 前年計
A26: 22 | E26: 対前年比
A27: 23
A28: 24
A29: 25
A30: 26
A31: 27
A32: 28
A33: 29
A34: 30
A35: 31
A36: 計
A37: 前年計
A38: 対前年比
A39: 累計 （1～10月）
A40: 前年累計
A41: 対前年累計比

Sheet 11月
A1: 鳥取県営境港水産物地方卸売市場水産物取扱高報告書(令和 ８年 １１月分）
I2: 境港水産物市場管理株式会社
A3: １ 日別取扱状況 | E3: ２ 業態別取扱状況
A4: 日 | B4: 数量（kg) | C4: 金額(円 ） | H4: １１月 | I4: 累計（１～１１月）
A5: 1 | G5: 数量(kg) | H5: 金額(円 ） | I5: 数量(kg) | J5: 金額(円 ）
A6: 2 | E6: まき網
A7: 3 | F7: 前年
A8: 4 | E8: いかつり
A9: 5 | F9: 前年
A10: 6 | E10: ベニズワイガニ
A11: 7 | F11: 前年
A12: 8 | E12: 活魚
A13: 9 | F13: 前年
A14: 10 | E14: 輸入（ベニズワイガニ）
A15: 11 | F15: 前年
A16: 12 | E16: 輸入魚（その他）
A17: 13 | F17: 前年
A18: 14 | E18: 沖合底びき網
A19: 15 | F19: 前年
A20: 16 | E20: 移入魚
A21: 17 | F21: 前年
A22: 18 | E22: その他
A23: 19 | F23: 前年
A24: 20 | E24: 計
A25: 21 | F25: 前年計
A26: 22 | E26: 対前年比
A27: 23
A28: 24
A29: 25
A30: 26
A31: 27
A32: 28
A33: 29
A34: 30
B35: 0 | C35: 0
A36: 計
A37: 前年計
A38: 対前年比
A39: 累計 （1～11月）
A40: 前年累計
A41: 対前年累計比

Sheet 12月
A1: 鳥取県営境港水産物地方卸売市場水産物取扱高報告書(令和 ８年 １２月分）
I2: 境港水産物市場管理株式会社
A3: １ 日別取扱状況 | E3: ２ 業態別取扱状況
A4: 日 | B4: 数量（kg) | C4: 金額(円 ） | H4: １２月 | I4: 累計（１～１２月）
A5: 1 | G5: 数量(kg) | H5: 金額(円 ） | I5: 数量(kg) | J5: 金額(円 ）
A6: 2 | E6: まき網
A7: 3 | F7: 前年
A8: 4 | E8: いかつり
A9: 5 | F9: 前年
A10: 6 | E10: ベニズワイガニ
A11: 7 | F11: 前年
A12: 8 | E12: 活魚
A13: 9 | F13: 前年
A14: 10 | E14: 輸入（ベニズワイガニ）
A15: 11 | F15: 前年
A16: 12 | E16: 輸入魚（その他）
A17: 13 | F17: 前年
A18: 14 | E18: 沖合底びき網
A19: 15 | F19: 前年
A20: 16 | E20: 移入魚
A21: 17 | F21: 前年
A22: 18 | E22: その他
A23: 19 | F23: 前年
A24: 20 | E24: 計
A25: 21 | F25: 前年計
A26: 22 | E26: 対前年比
A27: 23
A28: 24
A29: 25
A30: 26
A31: 27
A32: 28
A33: 29
A34: 30
A35: 31
A36: 計
A37: 前年計
A38: 対前年比
A39: 累計 （1～12月）
A40: 前年累計
A41: 対前年累計比
